BEGIN:VCALENDAR
VERSION:2.0
PRODID:-//Bridgeview Public Library - ECPv6.15.20//NONSGML v1.0//EN
CALSCALE:GREGORIAN
METHOD:PUBLISH
X-WR-CALNAME:Bridgeview Public Library
X-ORIGINAL-URL:https://bridgeviewlibrary.org
X-WR-CALDESC:Events for Bridgeview Public Library
REFRESH-INTERVAL;VALUE=DURATION:PT1H
X-Robots-Tag:noindex
X-PUBLISHED-TTL:PT1H
BEGIN:VTIMEZONE
TZID:America/Chicago
BEGIN:DAYLIGHT
TZOFFSETFROM:-0600
TZOFFSETTO:-0500
TZNAME:CDT
DTSTART:20240310T080000
END:DAYLIGHT
BEGIN:STANDARD
TZOFFSETFROM:-0500
TZOFFSETTO:-0600
TZNAME:CST
DTSTART:20241103T070000
END:STANDARD
BEGIN:DAYLIGHT
TZOFFSETFROM:-0600
TZOFFSETTO:-0500
TZNAME:CDT
DTSTART:20250309T080000
END:DAYLIGHT
BEGIN:STANDARD
TZOFFSETFROM:-0500
TZOFFSETTO:-0600
TZNAME:CST
DTSTART:20251102T070000
END:STANDARD
BEGIN:DAYLIGHT
TZOFFSETFROM:-0600
TZOFFSETTO:-0500
TZNAME:CDT
DTSTART:20260308T080000
END:DAYLIGHT
BEGIN:STANDARD
TZOFFSETFROM:-0500
TZOFFSETTO:-0600
TZNAME:CST
DTSTART:20261101T070000
END:STANDARD
END:VTIMEZONE
BEGIN:VEVENT
DTSTART;TZID=America/Chicago:20251208T160000
DTEND;TZID=America/Chicago:20251208T170000
DTSTAMP:20260420T084318
CREATED:20251107T225507Z
LAST-MODIFIED:20251110T175431Z
UID:20600-1765209600-1765213200@bridgeviewlibrary.org
SUMMARY:TEEN Gingerbread House
DESCRIPTION:Visit our TEEN Things To Do page for detailed information. \n\n\n\nAge/ Capacity limits
URL:https://bridgeviewlibrary.org/event/teen-gingerbread-house/
END:VEVENT
BEGIN:VEVENT
DTSTART;TZID=America/Chicago:20251208T110000
DTEND;TZID=America/Chicago:20251208T113000
DTSTAMP:20260420T084318
CREATED:20251107T225419Z
LAST-MODIFIED:20251107T233212Z
UID:20598-1765191600-1765193400@bridgeviewlibrary.org
SUMMARY:Nature & Nurture Storytime
DESCRIPTION:Visit our Children’s program page for detailed information. \n\n\n\nAge/ Capacity limits
URL:https://bridgeviewlibrary.org/event/nature-nurture-storytime-4/
END:VEVENT
BEGIN:VEVENT
DTSTART;TZID=America/Chicago:20251206T140000
DTEND;TZID=America/Chicago:20251206T160000
DTSTAMP:20260420T084318
CREATED:20251107T225344Z
LAST-MODIFIED:20251107T233231Z
UID:20596-1765029600-1765036800@bridgeviewlibrary.org
SUMMARY:Drop-In Family Fun Craft
DESCRIPTION:Visit our Children’s program page for detailed information.
URL:https://bridgeviewlibrary.org/event/drop-in-family-fun-craft/
END:VEVENT
BEGIN:VEVENT
DTSTART;TZID=America/Chicago:20251205T110000
DTEND;TZID=America/Chicago:20251205T113000
DTSTAMP:20260420T084318
CREATED:20251107T225257Z
LAST-MODIFIED:20251107T233331Z
UID:20594-1764932400-1764934200@bridgeviewlibrary.org
SUMMARY:Book\, Boogie & Play!
DESCRIPTION:Visit our Children’s program page for detailed information. \n\n\n\nAge/ Capacity limits
URL:https://bridgeviewlibrary.org/event/book-boogie-play-3/
END:VEVENT
BEGIN:VEVENT
DTSTART;TZID=America/Chicago:20251204T160000
DTEND;TZID=America/Chicago:20251204T190000
DTSTAMP:20260420T084318
CREATED:20251107T225224Z
LAST-MODIFIED:20251107T233415Z
UID:20592-1764864000-1764874800@bridgeviewlibrary.org
SUMMARY:Happy Birthday Youth Services
DESCRIPTION:Visit our Children’s program page for detailed information. \n\n\n\nAge/ Capacity limits
URL:https://bridgeviewlibrary.org/event/happy-birthday-youth-services/
END:VEVENT
BEGIN:VEVENT
DTSTART;TZID=America/Chicago:20251203T160000
DTEND;TZID=America/Chicago:20251203T170000
DTSTAMP:20260420T084318
CREATED:20251107T225144Z
LAST-MODIFIED:20251107T233438Z
UID:20590-1764777600-1764781200@bridgeviewlibrary.org
SUMMARY:Hot Cocoa Slime
DESCRIPTION:Visit our Children’s program page for detailed information. \n\n\n\nAge/ Capacity limits
URL:https://bridgeviewlibrary.org/event/hot-cocoa-slime/
END:VEVENT
BEGIN:VEVENT
DTSTART;TZID=America/Chicago:20251203T130000
DTEND;TZID=America/Chicago:20251203T140000
DTSTAMP:20260420T084318
CREATED:20251107T225116Z
LAST-MODIFIED:20251110T174251Z
UID:20588-1764766800-1764770400@bridgeviewlibrary.org
SUMMARY:Home-School Geography Club
DESCRIPTION:Visit our Children’s program page for detailed information. \n\n\n\nAge/ Capacity limits
URL:https://bridgeviewlibrary.org/event/home-school-geography-club-4/
END:VEVENT
BEGIN:VEVENT
DTSTART;TZID=America/Chicago:20251202T183000
DTEND;TZID=America/Chicago:20251202T190000
DTSTAMP:20260420T084318
CREATED:20251107T225025Z
LAST-MODIFIED:20251110T175413Z
UID:20586-1764700200-1764702000@bridgeviewlibrary.org
SUMMARY:TEEN What in the World!?! Mystery Snacks
DESCRIPTION:Visit our TEEN Things to do page for detailed information. \n\n\n\nAge/ Capacity limits
URL:https://bridgeviewlibrary.org/event/teen-what-in-the-world-mystery-snacks/
END:VEVENT
BEGIN:VEVENT
DTSTART;TZID=America/Chicago:20251202T160000
DTEND;TZID=America/Chicago:20251202T170000
DTSTAMP:20260420T084318
CREATED:20251107T224934Z
LAST-MODIFIED:20251110T174430Z
UID:20584-1764691200-1764694800@bridgeviewlibrary.org
SUMMARY:Search for a Giant Squid
DESCRIPTION:Visit our Children’s program page for detailed information. \n\n\n\nAge/ Capacity limits
URL:https://bridgeviewlibrary.org/event/search-for-a-giant-squid/
END:VEVENT
BEGIN:VEVENT
DTSTART;TZID=America/Chicago:20251201T110000
DTEND;TZID=America/Chicago:20251201T113000
DTSTAMP:20260420T084318
CREATED:20251107T222621Z
LAST-MODIFIED:20251110T174447Z
UID:20582-1764586800-1764588600@bridgeviewlibrary.org
SUMMARY:Nature & Nurture Storytime
DESCRIPTION:Visit our Children’s program page for detailed information. \n\n\n\nAge/ Capacity limits
URL:https://bridgeviewlibrary.org/event/nature-nurture-storytime-3/
END:VEVENT
BEGIN:VEVENT
DTSTART;TZID=America/Chicago:20251129T140000
DTEND;TZID=America/Chicago:20251129T160000
DTSTAMP:20260420T084318
CREATED:20251107T222541Z
LAST-MODIFIED:20251110T174510Z
UID:20580-1764424800-1764432000@bridgeviewlibrary.org
SUMMARY:Drop-In Lego & Playdoh
DESCRIPTION:Visit our Children’s program page for detailed information. \n\n\n\nAge/ Capacity limits
URL:https://bridgeviewlibrary.org/event/drop-in-lego-playdoh/
END:VEVENT
BEGIN:VEVENT
DTSTART;TZID=America/Chicago:20251126T160000
DTEND;TZID=America/Chicago:20251126T170000
DTSTAMP:20260420T084318
CREATED:20251107T222407Z
LAST-MODIFIED:20251110T174536Z
UID:20578-1764172800-1764176400@bridgeviewlibrary.org
SUMMARY:Thanksgiving Storytime
DESCRIPTION:Visit our Children’s program page for detailed information. \n\n\n\nAge/ Capacity limits
URL:https://bridgeviewlibrary.org/event/thanksgiving-storytime/
END:VEVENT
BEGIN:VEVENT
DTSTART;TZID=America/Chicago:20251126T130000
DTEND;TZID=America/Chicago:20251126T140000
DTSTAMP:20260420T084318
CREATED:20251107T222336Z
LAST-MODIFIED:20251110T174552Z
UID:20576-1764162000-1764165600@bridgeviewlibrary.org
SUMMARY:Home-School Geography Club
DESCRIPTION:Visit our Children’s program page for detailed information. \n\n\n\nAge/ Capacity limits
URL:https://bridgeviewlibrary.org/event/home-school-geography-club-3/
END:VEVENT
BEGIN:VEVENT
DTSTART;TZID=America/Chicago:20251125T183000
DTEND;TZID=America/Chicago:20251125T193000
DTSTAMP:20260420T084318
CREATED:20251107T222250Z
LAST-MODIFIED:20251110T174614Z
UID:20574-1764095400-1764099000@bridgeviewlibrary.org
SUMMARY:Game & Puzzle Night
DESCRIPTION:Visit our Children’s program page for detailed information. \n\n\n\nAge/ Capacity limits
URL:https://bridgeviewlibrary.org/event/game-puzzle-night/
END:VEVENT
BEGIN:VEVENT
DTSTART;TZID=America/Chicago:20251125T180000
DTEND;TZID=America/Chicago:20251125T190000
DTSTAMP:20260420T084318
CREATED:20251006T081631Z
LAST-MODIFIED:20251006T081804Z
UID:20344-1764093600-1764097200@bridgeviewlibrary.org
SUMMARY:Whodunit? Mystery Book Club presents: The House Across the Lake by Riley Sager
DESCRIPTION:Whodunit? Mystery Book Club presents: The House Across the Lake by Riley Sager \n\n\n\nTuesday\, November 25th\, 2025 6pm \n\n\n\nQuestions? Suggestions? Email me at apierce@bridgeviewlibrary.org
URL:https://bridgeviewlibrary.org/event/whodunit-mystery-book-club-presents-the-house-across-the-lake-by-riley-sager/
END:VEVENT
BEGIN:VEVENT
DTSTART;TZID=America/Chicago:20251124T110000
DTEND;TZID=America/Chicago:20251124T113000
DTSTAMP:20260420T084318
CREATED:20251107T222221Z
LAST-MODIFIED:20251110T174635Z
UID:20572-1763982000-1763983800@bridgeviewlibrary.org
SUMMARY:Nature & Nurture Storytime
DESCRIPTION:Visit our Children’s program page for detailed information. \n\n\n\nAge/ Capacity limits
URL:https://bridgeviewlibrary.org/event/nature-nurture-storytime-2/
END:VEVENT
BEGIN:VEVENT
DTSTART;TZID=America/Chicago:20251122T140000
DTEND;TZID=America/Chicago:20251122T150000
DTSTAMP:20260420T084318
CREATED:20251107T222042Z
LAST-MODIFIED:20251110T174707Z
UID:20570-1763820000-1763823600@bridgeviewlibrary.org
SUMMARY:Cross Stitch Basics
DESCRIPTION:Visit our Children’s program page for detailed information. \n\n\n\nAge/ Capacity limits
URL:https://bridgeviewlibrary.org/event/cross-stitch-basics/
END:VEVENT
BEGIN:VEVENT
DTSTART;TZID=America/Chicago:20251121T110000
DTEND;TZID=America/Chicago:20251121T120000
DTSTAMP:20260420T084318
CREATED:20251107T222000Z
LAST-MODIFIED:20251110T174727Z
UID:20568-1763722800-1763726400@bridgeviewlibrary.org
SUMMARY:Book\, Boogie & Play!
DESCRIPTION:Visit our Children’s program page for detailed information. \n\n\n\nAge/ Capacity limits
URL:https://bridgeviewlibrary.org/event/book-boogie-play-2/
END:VEVENT
BEGIN:VEVENT
DTSTART;TZID=America/Chicago:20251120T180000
DTEND;TZID=America/Chicago:20251120T190000
DTSTAMP:20260420T084318
CREATED:20251107T221925Z
LAST-MODIFIED:20251110T174748Z
UID:20566-1763661600-1763665200@bridgeviewlibrary.org
SUMMARY:Family Book Tastings
DESCRIPTION:Visit our Children’s program page for detailed information. \n\n\n\nAge/ Capacity limits
URL:https://bridgeviewlibrary.org/event/family-book-tastings/
END:VEVENT
BEGIN:VEVENT
DTSTART;TZID=America/Chicago:20251119T160000
DTEND;TZID=America/Chicago:20251119T170000
DTSTAMP:20260420T084318
CREATED:20251107T221844Z
LAST-MODIFIED:20251110T174809Z
UID:20564-1763568000-1763571600@bridgeviewlibrary.org
SUMMARY:Kid's Cuisine pudding pies
DESCRIPTION:Visit our Children’s program page for detailed information. \n\n\n\nAge/ Capacity limits
URL:https://bridgeviewlibrary.org/event/kids-cuisine-pudding-pies/
END:VEVENT
BEGIN:VEVENT
DTSTART;TZID=America/Chicago:20251119T130000
DTEND;TZID=America/Chicago:20251119T140000
DTSTAMP:20260420T084318
CREATED:20251107T221758Z
LAST-MODIFIED:20251110T174826Z
UID:20562-1763557200-1763560800@bridgeviewlibrary.org
SUMMARY:Home-school Geography Club
DESCRIPTION:Visit our Children’s program page for detailed information. \n\n\n\nAge/ Capacity limits
URL:https://bridgeviewlibrary.org/event/home-school-geography-club-2/
END:VEVENT
BEGIN:VEVENT
DTSTART;TZID=America/Chicago:20251118T183000
DTEND;TZID=America/Chicago:20251118T193000
DTSTAMP:20260420T084318
CREATED:20251107T221704Z
LAST-MODIFIED:20251110T174904Z
UID:20560-1763490600-1763494200@bridgeviewlibrary.org
SUMMARY:Rocket into reading with Chris Fascione
DESCRIPTION:Visit our Children’s program page for detailed information. \n\n\n\nNo registration required
URL:https://bridgeviewlibrary.org/event/rocket-into-reading-with-chris-fascione/
END:VEVENT
BEGIN:VEVENT
DTSTART;TZID=America/Chicago:20251118T180000
DTEND;TZID=America/Chicago:20251118T190000
DTSTAMP:20260420T084318
CREATED:20251006T081535Z
LAST-MODIFIED:20251006T081536Z
UID:20342-1763488800-1763492400@bridgeviewlibrary.org
SUMMARY:Chicago Movie Tours presents: Chicago and the Wizard of Oz
DESCRIPTION:Chicago Movie Tours presents: Chicago and the Wizard of Oz \n\n\n\nJoin Kelli as she walks us through how even though the Wizard of Oz takes place in Kansas\,  there are some Chicago connections to this classic film. \n\n\n\nTuesday\, November 18th\, 2025 6pm \n\n\n\nCall (708) 458-2880 to register
URL:https://bridgeviewlibrary.org/event/chicago-movie-tours-presents-chicago-and-the-wizard-of-oz/
END:VEVENT
BEGIN:VEVENT
DTSTART;TZID=America/Chicago:20251117T110000
DTEND;TZID=America/Chicago:20251117T113000
DTSTAMP:20260420T084318
CREATED:20251107T221158Z
LAST-MODIFIED:20251110T174927Z
UID:20557-1763377200-1763379000@bridgeviewlibrary.org
SUMMARY:Nature & Nurture Storytime
DESCRIPTION:Visit our Children’s program page for detailed information. \n\n\n\nAge/Capacity limits.
URL:https://bridgeviewlibrary.org/event/nature-nurture-storytime/
END:VEVENT
BEGIN:VEVENT
DTSTART;TZID=America/Chicago:20251115T150000
DTEND;TZID=America/Chicago:20251115T170000
DTSTAMP:20260420T084318
CREATED:20251107T220923Z
LAST-MODIFIED:20251110T174952Z
UID:20554-1763218800-1763226000@bridgeviewlibrary.org
SUMMARY:Drop-In Family Storytime TRAINS!
DESCRIPTION:Visit our Children’s program page for detailed information. \n\n\n\nAge/Capacity limits.
URL:https://bridgeviewlibrary.org/event/drop-in-family-storytime-trains/
END:VEVENT
BEGIN:VEVENT
DTSTART;TZID=America/Chicago:20251114T150000
DTEND;TZID=America/Chicago:20251114T170000
DTSTAMP:20260420T084318
CREATED:20251107T220839Z
LAST-MODIFIED:20251110T175013Z
UID:20552-1763132400-1763139600@bridgeviewlibrary.org
SUMMARY:Drop-In Fine Art Friday
DESCRIPTION:Visit our Children’s program page for detailed information. \n\n\n\nAge/Capacity limits.
URL:https://bridgeviewlibrary.org/event/fine-art-friday/
END:VEVENT
BEGIN:VEVENT
DTSTART;TZID=America/Chicago:20251114T110000
DTEND;TZID=America/Chicago:20251114T113000
DTSTAMP:20260420T084318
CREATED:20251107T220749Z
LAST-MODIFIED:20251110T175035Z
UID:20550-1763118000-1763119800@bridgeviewlibrary.org
SUMMARY:Book\, Boogie & Play
DESCRIPTION:Visit our Children’s program page for detailed information. \n\n\n\nAge/Capacity limits.
URL:https://bridgeviewlibrary.org/event/book-boogie-play/
END:VEVENT
BEGIN:VEVENT
DTSTART;TZID=America/Chicago:20251113T183000
DTEND;TZID=America/Chicago:20251113T193000
DTSTAMP:20260420T084318
CREATED:20251107T220658Z
LAST-MODIFIED:20251110T175354Z
UID:20548-1763058600-1763062200@bridgeviewlibrary.org
SUMMARY:TEEN Scrapbook Basics
DESCRIPTION:Visit our Teen Things to Do page for detailed information. \n\n\n\nAge/Capacity limits.
URL:https://bridgeviewlibrary.org/event/teen-scrapbook-basics/
END:VEVENT
BEGIN:VEVENT
DTSTART;TZID=America/Chicago:20251113T170000
DTEND;TZID=America/Chicago:20251113T180000
DTSTAMP:20260420T084318
CREATED:20251107T220558Z
LAST-MODIFIED:20251110T175059Z
UID:20546-1763053200-1763056800@bridgeviewlibrary.org
SUMMARY:Intro to Cross Stitch
DESCRIPTION:Visit our Children’s program page for detailed information. \n\n\n\nAge/Capacity limits.
URL:https://bridgeviewlibrary.org/event/intro-to-cross-stitch/
END:VEVENT
BEGIN:VEVENT
DTSTART;TZID=America/Chicago:20251112T160000
DTEND;TZID=America/Chicago:20251112T170000
DTSTAMP:20260420T084318
CREATED:20251107T220505Z
LAST-MODIFIED:20251110T175147Z
UID:20544-1762963200-1762966800@bridgeviewlibrary.org
SUMMARY:Origami Day
DESCRIPTION:Visit our Children’s program page for detailed information. \n\n\n\nAge/Capacity limits.
URL:https://bridgeviewlibrary.org/event/origami-day/
END:VEVENT
END:VCALENDAR